Package: biodb Version: 1.12.0 Command: chmod a+r biodb -R && E:\biocbuild\bbs-3.19-bioc\R\bin\R.exe CMD build --keep-empty-dirs --no-resave-data biodb StartedAt: 2024-10-16 17:51:28 -0400 (Wed, 16 Oct 2024) EndedAt: 2024-10-16 17:54:34 -0400 (Wed, 16 Oct 2024) EllapsedTime: 186.0 seconds RetCode: 0 Status: OK PackageFile: biodb_1.12.0.tar.gz PackageFileSize: 1.81 MiB