Package: biodb Version: 1.12.0 Command: chmod a+r biodb -R && F:\biocbuild\bbs-3.19-bioc\R\bin\R.exe CMD build --keep-empty-dirs --no-resave-data biodb StartedAt: 2024-06-26 17:25:50 -0400 (Wed, 26 Jun 2024) EndedAt: 2024-06-26 17:28:41 -0400 (Wed, 26 Jun 2024) EllapsedTime: 170.2 seconds RetCode: 0 Status: OK PackageFile: biodb_1.12.0.tar.gz PackageFileSize: 1.81 MiB