Package: biodb Version: 1.12.0 Command: rm -rf biodb.buildbin-libdir && mkdir biodb.buildbin-libdir && F:\biocbuild\bbs-3.19-bioc\R\bin\R.exe CMD INSTALL --build --library=biodb.buildbin-libdir biodb_1.12.0.tar.gz StartedAt: 2024-06-27 07:54:07 -0400 (Thu, 27 Jun 2024) EndedAt: 2024-06-27 07:55:37 -0400 (Thu, 27 Jun 2024) EllapsedTime: 90.1 seconds RetCode: 0 Status: OK PackageFile: biodb_1.12.0.zip PackageFileSize: 4.81 MiB