Package: biocthis Version: 1.14.0 Command: /home/biocbuild/bbs-3.19-bioc/R/bin/R CMD build --keep-empty-dirs --no-resave-data biocthis StartedAt: 2024-10-16 17:14:50 -0400 (Wed, 16 Oct 2024) EndedAt: 2024-10-16 17:15:03 -0400 (Wed, 16 Oct 2024) EllapsedTime: 13.0 seconds RetCode: 0 Status: OK PackageFile: biocthis_1.14.0.tar.gz PackageFileSize: 657.9 KiB