Package: biocthis Version: 1.14.0 Command: /Library/Frameworks/R.framework/Resources/bin/R CMD build --keep-empty-dirs --no-resave-data biocthis StartedAt: 2024-10-16 17:26:48 -0400 (Wed, 16 Oct 2024) EndedAt: 2024-10-16 17:27:28 -0400 (Wed, 16 Oct 2024) EllapsedTime: 40.5 seconds RetCode: 0 Status: OK PackageFile: biocthis_1.14.0.tar.gz PackageFileSize: 657.9 KiB