Package: biocthis Version: 1.14.0 Command: rm -rf biocthis.buildbin-libdir && mkdir biocthis.buildbin-libdir && /Users/biocbuild/BBS/utils/build-universal.sh biocthis_1.14.0.tar.gz /Library/Frameworks/R.framework/Resources/bin/R biocthis.buildbin-libdir StartedAt: 2024-10-17 15:43:09 -0400 (Thu, 17 Oct 2024) EndedAt: 2024-10-17 15:43:19 -0400 (Thu, 17 Oct 2024) EllapsedTime: 9.5 seconds RetCode: 0 Status: OK PackageFile: biocthis_1.14.0.tgz PackageFileSize: 699.7 KiB