Package: biocthis Version: 1.14.0 Command: /home/biocbuild/R/R-beta-2024-04-15_r86425/bin/R CMD build --keep-empty-dirs --no-resave-data biocthis StartedAt: 2024-05-08 22:45:47 -0000 (Wed, 08 May 2024) EndedAt: 2024-05-08 22:46:04 -0000 (Wed, 08 May 2024) EllapsedTime: 17.0 seconds RetCode: 0 Status: OK PackageFile: biocthis_1.14.0.tar.gz PackageFileSize: 791.8 KiB