Package: biocroxytest Version: 1.0.0 Command: rm -rf biocroxytest.buildbin-libdir && mkdir biocroxytest.buildbin-libdir && E:\biocbuild\bbs-3.19-bioc\R\bin\R.exe CMD INSTALL --build --library=biocroxytest.buildbin-libdir biocroxytest_1.0.0.tar.gz StartedAt: 2024-10-17 07:24:47 -0400 (Thu, 17 Oct 2024) EndedAt: 2024-10-17 07:25:11 -0400 (Thu, 17 Oct 2024) EllapsedTime: 23.9 seconds RetCode: 0 Status: OK PackageFile: biocroxytest_1.0.0.zip PackageFileSize: 147.7 KiB