Package: biocroxytest Version: 1.0.0 Command: chmod a+r biocroxytest -R && F:\biocbuild\bbs-3.19-bioc\R\bin\R.exe CMD build --keep-empty-dirs --no-resave-data biocroxytest StartedAt: 2024-06-26 17:24:38 -0400 (Wed, 26 Jun 2024) EndedAt: 2024-06-26 17:24:49 -0400 (Wed, 26 Jun 2024) EllapsedTime: 11.4 seconds RetCode: 0 Status: OK PackageFile: biocroxytest_1.0.0.tar.gz PackageFileSize: 2.493 MiB