Package: biocroxytest Version: 1.0.0 Command: rm -rf biocroxytest.buildbin-libdir && mkdir biocroxytest.buildbin-libdir && F:\biocbuild\bbs-3.19-bioc\R\bin\R.exe CMD INSTALL --build --library=biocroxytest.buildbin-libdir biocroxytest_1.0.0.tar.gz StartedAt: 2024-06-27 07:53:51 -0400 (Thu, 27 Jun 2024) EndedAt: 2024-06-27 07:54:09 -0400 (Thu, 27 Jun 2024) EllapsedTime: 18.3 seconds RetCode: 0 Status: OK PackageFile: biocroxytest_1.0.0.zip PackageFileSize: 147.9 KiB