Package: biocViews Version: 1.72.0 Command: F:\biocbuild\bbs-3.19-bioc\R\bin\R.exe CMD INSTALL biocViews StartedAt: 2024-06-26 15:45:07 -0400 (Wed, 26 Jun 2024) EndedAt: 2024-06-26 15:45:30 -0400 (Wed, 26 Jun 2024) EllapsedTime: 23.1 seconds RetCode: 0 Status: OK