Package: biocViews Version: 1.72.0 Command: chmod a+r biocViews -R && F:\biocbuild\bbs-3.19-bioc\R\bin\R.exe CMD build --keep-empty-dirs --no-resave-data biocViews StartedAt: 2024-06-26 17:25:31 -0400 (Wed, 26 Jun 2024) EndedAt: 2024-06-26 17:26:05 -0400 (Wed, 26 Jun 2024) EllapsedTime: 33.6 seconds RetCode: 0 Status: OK PackageFile: biocViews_1.72.0.tar.gz PackageFileSize: 506.5 KiB