Package: biocViews Version: 1.72.0 Command: /home/biocbuild/bbs-3.19-bioc/R/bin/R CMD INSTALL biocViews StartedAt: 2024-10-16 15:53:00 -0400 (Wed, 16 Oct 2024) EndedAt: 2024-10-16 15:53:08 -0400 (Wed, 16 Oct 2024) EllapsedTime: 8.0 seconds RetCode: 0 Status: OK