Package: biocViews Version: 1.72.0 Command: /home/biocbuild/R/R-beta-2024-04-15_r86425/bin/R CMD INSTALL biocViews StartedAt: 2024-05-08 20:08:33 -0000 (Wed, 08 May 2024) EndedAt: 2024-05-08 20:09:08 -0000 (Wed, 08 May 2024) EllapsedTime: 35.1 seconds RetCode: 0 Status: OK