Package: biocViews Version: 1.72.0 Command: /home/biocbuild/R/R-beta-2024-04-15_r86425/bin/R CMD check --install=check:biocViews.install-out.txt --library=/home/biocbuild/R/R-beta-2024-04-15_r86425/site-library --no-vignettes --timings biocViews_1.72.0.tar.gz StartedAt: 2024-05-09 05:14:53 -0000 (Thu, 09 May 2024) EndedAt: 2024-05-09 05:19:08 -0000 (Thu, 09 May 2024) EllapsedTime: 255.6 seconds RetCode: 0 Status: WARNINGS CheckDir: biocViews.Rcheck Warnings: 1