Package: biocViews Version: 1.72.0 Command: /Library/Frameworks/R.framework/Resources/bin/R CMD INSTALL biocViews StartedAt: 2024-10-16 15:47:20 -0400 (Wed, 16 Oct 2024) EndedAt: 2024-10-16 15:47:29 -0400 (Wed, 16 Oct 2024) EllapsedTime: 9.5 seconds RetCode: 0 Status: OK