Package: biocViews Version: 1.72.0 Command: /Library/Frameworks/R.framework/Resources/bin/R CMD check --install=check:biocViews.install-out.txt --library=/Library/Frameworks/R.framework/Resources/library --no-vignettes --timings biocViews_1.72.0.tar.gz StartedAt: 2024-10-17 14:02:46 -0400 (Thu, 17 Oct 2024) EndedAt: 2024-10-17 14:03:50 -0400 (Thu, 17 Oct 2024) EllapsedTime: 64.0 seconds RetCode: 0 Status: WARNINGS CheckDir: biocViews.Rcheck Warnings: 1