Package: biocViews Version: 1.72.0 Command: /Library/Frameworks/R.framework/Resources/bin/R CMD build --keep-empty-dirs --no-resave-data biocViews StartedAt: 2024-10-16 20:23:36 -0400 (Wed, 16 Oct 2024) EndedAt: 2024-10-16 20:23:56 -0400 (Wed, 16 Oct 2024) EllapsedTime: 19.2 seconds RetCode: 0 Status: OK PackageFile: biocViews_1.72.0.tar.gz PackageFileSize: 506.3 KiB