Package: biocGraph Version: 1.66.0 Command: chmod a+r biocGraph -R && E:\biocbuild\bbs-3.19-bioc\R\bin\R.exe CMD build --keep-empty-dirs --no-resave-data biocGraph StartedAt: 2024-10-16 17:49:43 -0400 (Wed, 16 Oct 2024) EndedAt: 2024-10-16 17:50:25 -0400 (Wed, 16 Oct 2024) EllapsedTime: 42.1 seconds RetCode: 0 Status: OK PackageFile: biocGraph_1.66.0.tar.gz PackageFileSize: 448.8 KiB