Package: biocGraph Version: 1.66.0 Command: chmod a+r biocGraph -R && F:\biocbuild\bbs-3.19-bioc\R\bin\R.exe CMD build --keep-empty-dirs --no-resave-data biocGraph StartedAt: 2024-06-26 17:23:59 -0400 (Wed, 26 Jun 2024) EndedAt: 2024-06-26 17:24:40 -0400 (Wed, 26 Jun 2024) EllapsedTime: 41.3 seconds RetCode: 0 Status: OK PackageFile: biocGraph_1.66.0.tar.gz PackageFileSize: 448.3 KiB