Package: biocGraph Version: 1.66.0 Command: rm -rf biocGraph.buildbin-libdir && mkdir biocGraph.buildbin-libdir && F:\biocbuild\bbs-3.19-bioc\R\bin\R.exe CMD INSTALL --build --library=biocGraph.buildbin-libdir biocGraph_1.66.0.tar.gz StartedAt: 2024-06-27 07:53:35 -0400 (Thu, 27 Jun 2024) EndedAt: 2024-06-27 07:53:52 -0400 (Thu, 27 Jun 2024) EllapsedTime: 17.3 seconds RetCode: 0 Status: OK PackageFile: biocGraph_1.66.0.zip PackageFileSize: 440.5 KiB