Package: biocGraph Version: 1.66.0 Command: /Library/Frameworks/R.framework/Resources/bin/R CMD check --install=check:biocGraph.install-out.txt --library=/Library/Frameworks/R.framework/Resources/library --no-vignettes --timings biocGraph_1.66.0.tar.gz StartedAt: 2024-06-09 18:59:09 -0400 (Sun, 09 Jun 2024) EndedAt: 2024-06-09 19:00:56 -0400 (Sun, 09 Jun 2024) EllapsedTime: 107.7 seconds RetCode: 0 Status: OK CheckDir: biocGraph.Rcheck Warnings: 0