Package: biocGraph Version: 1.66.0 Command: /home/biocbuild/R/R-beta-2024-04-15_r86425/bin/R CMD build --keep-empty-dirs --no-resave-data biocGraph StartedAt: 2024-05-08 22:43:48 -0000 (Wed, 08 May 2024) EndedAt: 2024-05-08 22:44:20 -0000 (Wed, 08 May 2024) EllapsedTime: 32.0 seconds RetCode: 0 Status: OK PackageFile: biocGraph_1.66.0.tar.gz PackageFileSize: 717.4 KiB