Package: biocGraph Version: 1.66.0 Command: rm -rf biocGraph.buildbin-libdir && mkdir biocGraph.buildbin-libdir && /Users/biocbuild/BBS/utils/build-universal.sh biocGraph_1.66.0.tar.gz /Library/Frameworks/R.framework/Resources/bin/R biocGraph.buildbin-libdir StartedAt: 2024-10-18 17:29:46 -0400 (Fri, 18 Oct 2024) EndedAt: 2024-10-18 17:30:07 -0400 (Fri, 18 Oct 2024) EllapsedTime: 21.6 seconds RetCode: 0 Status: OK PackageFile: biocGraph_1.66.0.tgz PackageFileSize: 721.1 KiB