Package: biocGraph Version: 1.66.0 Maintainer: Florian Hahne MaintainerEmail: florian.hahne at novartis.com git_url: https://git.bioconductor.org/packages/biocGraph git_branch: RELEASE_3_19 git_last_commit: c5ef9ee git_last_commit_date: 2024-04-30 10:17:03 -0400 (Tue, 30 Apr 2024)