Package: biobtreeR Version: 1.16.0 Command: /Library/Frameworks/R.framework/Resources/bin/R CMD check --install=check:biobtreeR.install-out.txt --library=/Library/Frameworks/R.framework/Resources/library --no-vignettes --timings biobtreeR_1.16.0.tar.gz StartedAt: 2024-10-17 01:40:24 -0400 (Thu, 17 Oct 2024) EndedAt: 2024-10-17 01:41:33 -0400 (Thu, 17 Oct 2024) EllapsedTime: 69.6 seconds RetCode: 0 Status: OK CheckDir: biobtreeR.Rcheck Warnings: 0