Package: biobroom Version: 1.36.0 Command: E:\biocbuild\bbs-3.19-bioc\R\bin\R.exe CMD check --no-multiarch --install=check:biobroom.install-out.txt --library=E:\biocbuild\bbs-3.19-bioc\R\library --no-vignettes --timings biobroom_1.36.0.tar.gz StartedAt: 2024-10-16 23:11:23 -0400 (Wed, 16 Oct 2024) EndedAt: 2024-10-16 23:12:59 -0400 (Wed, 16 Oct 2024) EllapsedTime: 96.5 seconds RetCode: 0 Status: WARNINGS CheckDir: biobroom.Rcheck Warnings: 1