Package: biobroom Version: 1.36.0 Command: chmod a+r biobroom -R && E:\biocbuild\bbs-3.19-bioc\R\bin\R.exe CMD build --keep-empty-dirs --no-resave-data biobroom StartedAt: 2024-10-16 17:48:05 -0400 (Wed, 16 Oct 2024) EndedAt: 2024-10-16 17:49:20 -0400 (Wed, 16 Oct 2024) EllapsedTime: 75.2 seconds RetCode: 0 Status: OK PackageFile: biobroom_1.36.0.tar.gz PackageFileSize: 371.4 KiB