Package: biobroom Version: 1.36.0 Command: chmod a+r biobroom -R && F:\biocbuild\bbs-3.19-bioc\R\bin\R.exe CMD build --keep-empty-dirs --no-resave-data biobroom StartedAt: 2024-06-26 17:22:38 -0400 (Wed, 26 Jun 2024) EndedAt: 2024-06-26 17:23:56 -0400 (Wed, 26 Jun 2024) EllapsedTime: 77.5 seconds RetCode: 0 Status: OK PackageFile: biobroom_1.36.0.tar.gz PackageFileSize: 374.7 KiB