Package: biobroom Version: 1.36.0 Command: /Library/Frameworks/R.framework/Resources/bin/R CMD build --keep-empty-dirs --no-resave-data biobroom StartedAt: 2024-10-16 17:22:54 -0400 (Wed, 16 Oct 2024) EndedAt: 2024-10-16 17:25:02 -0400 (Wed, 16 Oct 2024) EllapsedTime: 127.7 seconds RetCode: 0 Status: OK PackageFile: biobroom_1.36.0.tar.gz PackageFileSize: 611 KiB