Package: biobroom Version: 1.36.0 Command: /home/biocbuild/R/R-beta-2024-04-15_r86425/bin/R CMD build --keep-empty-dirs --no-resave-data biobroom StartedAt: 2024-05-08 22:42:43 -0000 (Wed, 08 May 2024) EndedAt: 2024-05-08 22:43:48 -0000 (Wed, 08 May 2024) EllapsedTime: 65.1 seconds RetCode: 0 Status: OK PackageFile: biobroom_1.36.0.tar.gz PackageFileSize: 345.8 KiB