Package: bioassayR Version: 1.42.0 Command: chmod a+r bioassayR -R && E:\biocbuild\bbs-3.19-bioc\R\bin\R.exe CMD build --keep-empty-dirs --no-resave-data bioassayR StartedAt: 2024-10-16 17:47:34 -0400 (Wed, 16 Oct 2024) EndedAt: 2024-10-16 17:49:35 -0400 (Wed, 16 Oct 2024) EllapsedTime: 121.8 seconds RetCode: 0 Status: OK PackageFile: bioassayR_1.42.0.tar.gz PackageFileSize: 4.338 MiB