Package: bioassayR Version: 1.42.0 Command: F:\biocbuild\bbs-3.19-bioc\R\bin\R.exe CMD check --no-multiarch --install=check:bioassayR.install-out.txt --library=F:\biocbuild\bbs-3.19-bioc\R\library --no-vignettes --timings bioassayR_1.42.0.tar.gz StartedAt: 2024-06-26 23:18:25 -0400 (Wed, 26 Jun 2024) EndedAt: 2024-06-26 23:20:08 -0400 (Wed, 26 Jun 2024) EllapsedTime: 103.4 seconds RetCode: 0 Status: OK CheckDir: bioassayR.Rcheck Warnings: 0