Package: bioassayR Version: 1.42.0 Command: chmod a+r bioassayR -R && F:\biocbuild\bbs-3.19-bioc\R\bin\R.exe CMD build --keep-empty-dirs --no-resave-data bioassayR StartedAt: 2024-06-26 17:21:53 -0400 (Wed, 26 Jun 2024) EndedAt: 2024-06-26 17:25:00 -0400 (Wed, 26 Jun 2024) EllapsedTime: 186.6 seconds RetCode: 0 Status: OK PackageFile: bioassayR_1.42.0.tar.gz PackageFileSize: 4.339 MiB