Package: bioassayR Version: 1.42.0 Command: rm -rf bioassayR.buildbin-libdir && mkdir bioassayR.buildbin-libdir && F:\biocbuild\bbs-3.19-bioc\R\bin\R.exe CMD INSTALL --build --library=bioassayR.buildbin-libdir bioassayR_1.42.0.tar.gz StartedAt: 2024-06-27 07:53:12 -0400 (Thu, 27 Jun 2024) EndedAt: 2024-06-27 07:53:49 -0400 (Thu, 27 Jun 2024) EllapsedTime: 37.2 seconds RetCode: 0 Status: OK PackageFile: bioassayR_1.42.0.zip PackageFileSize: 992.5 KiB