Package: bioassayR Version: 1.42.0 Command: /home/biocbuild/bbs-3.19-bioc/R/bin/R CMD check --install=check:bioassayR.install-out.txt --library=/home/biocbuild/bbs-3.19-bioc/R/site-library --timings bioassayR_1.42.0.tar.gz StartedAt: 2024-10-16 22:00:28 -0400 (Wed, 16 Oct 2024) EndedAt: 2024-10-16 22:02:32 -0400 (Wed, 16 Oct 2024) EllapsedTime: 123.2 seconds RetCode: 0 Status: OK CheckDir: bioassayR.Rcheck Warnings: 0