Package: bioassayR Version: 1.42.0 Command: /Library/Frameworks/R.framework/Resources/bin/R CMD INSTALL bioassayR StartedAt: 2024-10-16 16:41:01 -0400 (Wed, 16 Oct 2024) EndedAt: 2024-10-16 16:41:31 -0400 (Wed, 16 Oct 2024) EllapsedTime: 29.5 seconds RetCode: 0 Status: OK