Package: bioassayR Version: 1.42.0 Command: rm -rf bioassayR.buildbin-libdir && mkdir bioassayR.buildbin-libdir && /Users/biocbuild/BBS/utils/build-universal.sh bioassayR_1.42.0.tar.gz /Library/Frameworks/R.framework/Resources/bin/R bioassayR.buildbin-libdir StartedAt: 2024-10-17 15:42:26 -0400 (Thu, 17 Oct 2024) EndedAt: 2024-10-17 15:43:01 -0400 (Thu, 17 Oct 2024) EllapsedTime: 34.5 seconds RetCode: 0 Status: OK PackageFile: bioassayR_1.42.0.tgz PackageFileSize: 1.032 MiB