Package: bioassayR Version: 1.42.0 Command: /Library/Frameworks/R.framework/Resources/bin/R CMD INSTALL bioassayR StartedAt: 2024-06-09 15:38:27 -0400 (Sun, 09 Jun 2024) EndedAt: 2024-06-09 15:38:44 -0400 (Sun, 09 Jun 2024) EllapsedTime: 16.6 seconds RetCode: 0 Status: OK