Package: bioassayR Version: 1.42.0 Command: /Library/Frameworks/R.framework/Resources/bin/R CMD check --install=check:bioassayR.install-out.txt --library=/Library/Frameworks/R.framework/Resources/library --no-vignettes --timings bioassayR_1.42.0.tar.gz StartedAt: 2024-06-09 18:57:36 -0400 (Sun, 09 Jun 2024) EndedAt: 2024-06-09 18:59:09 -0400 (Sun, 09 Jun 2024) EllapsedTime: 92.5 seconds RetCode: 0 Status: OK CheckDir: bioassayR.Rcheck Warnings: 0