Package: bioassayR Version: 1.42.0 Command: /Library/Frameworks/R.framework/Resources/bin/R CMD INSTALL bioassayR StartedAt: 2024-06-09 17:26:55 -0400 (Sun, 09 Jun 2024) EndedAt: 2024-06-09 17:27:12 -0400 (Sun, 09 Jun 2024) EllapsedTime: 17.6 seconds RetCode: 0 Status: OK