Package: bioassayR Version: 1.42.0 Command: /Library/Frameworks/R.framework/Resources/bin/R CMD check --install=check:bioassayR.install-out.txt --library=/Library/Frameworks/R.framework/Resources/library --no-vignettes --timings bioassayR_1.42.0.tar.gz StartedAt: 2024-06-10 08:37:08 -0400 (Mon, 10 Jun 2024) EndedAt: 2024-06-10 08:39:25 -0400 (Mon, 10 Jun 2024) EllapsedTime: 136.4 seconds RetCode: 1 Status: ERROR CheckDir: bioassayR.Rcheck Warnings: NA