Package: bioassayR Version: 1.42.0 Command: /Library/Frameworks/R.framework/Resources/bin/R CMD build --keep-empty-dirs --no-resave-data bioassayR StartedAt: 2024-06-09 18:36:14 -0400 (Sun, 09 Jun 2024) EndedAt: 2024-06-09 18:37:42 -0400 (Sun, 09 Jun 2024) EllapsedTime: 88.2 seconds RetCode: 0 Status: OK PackageFile: bioassayR_1.42.0.tar.gz PackageFileSize: 4.588 MiB