Package: bioassayR Version: 1.42.0 Command: /Library/Frameworks/R.framework/Resources/bin/R CMD check --install=check:bioassayR.install-out.txt --library=/Library/Frameworks/R.framework/Resources/library --no-vignettes --timings bioassayR_1.42.0.tar.gz StartedAt: 2024-10-17 13:45:10 -0400 (Thu, 17 Oct 2024) EndedAt: 2024-10-17 13:46:56 -0400 (Thu, 17 Oct 2024) EllapsedTime: 106.5 seconds RetCode: 1 Status: ERROR CheckDir: bioassayR.Rcheck Warnings: NA