Package: bioassayR Version: 1.42.0 Command: /Library/Frameworks/R.framework/Resources/bin/R CMD build --keep-empty-dirs --no-resave-data bioassayR StartedAt: 2024-10-16 20:13:08 -0400 (Wed, 16 Oct 2024) EndedAt: 2024-10-16 20:14:20 -0400 (Wed, 16 Oct 2024) EllapsedTime: 72.4 seconds RetCode: 0 Status: OK PackageFile: bioassayR_1.42.0.tar.gz PackageFileSize: 4.587 MiB