Package: bioassayR Version: 1.42.0 Maintainer: Daniela Cassol MaintainerEmail: danicassol at gmail.com git_url: https://git.bioconductor.org/packages/bioassayR git_branch: RELEASE_3_19 git_last_commit: d6ed4d1 git_last_commit_date: 2024-04-30 10:33:45 -0400 (Tue, 30 Apr 2024)