Package: bioDist Version: 1.76.0 Command: E:\biocbuild\bbs-3.19-bioc\R\bin\R.exe CMD check --no-multiarch --install=check:bioDist.install-out.txt --library=E:\biocbuild\bbs-3.19-bioc\R\library --no-vignettes --timings bioDist_1.76.0.tar.gz StartedAt: 2024-10-16 23:20:04 -0400 (Wed, 16 Oct 2024) EndedAt: 2024-10-16 23:21:48 -0400 (Wed, 16 Oct 2024) EllapsedTime: 104.3 seconds RetCode: 0 Status: OK CheckDir: bioDist.Rcheck Warnings: 0