Package: bioDist Version: 1.76.0 Command: rm -rf bioDist.buildbin-libdir && mkdir bioDist.buildbin-libdir && F:\biocbuild\bbs-3.19-bioc\R\bin\R.exe CMD INSTALL --build --library=bioDist.buildbin-libdir bioDist_1.76.0.tar.gz StartedAt: 2024-06-27 07:54:24 -0400 (Thu, 27 Jun 2024) EndedAt: 2024-06-27 07:54:43 -0400 (Thu, 27 Jun 2024) EllapsedTime: 19.4 seconds RetCode: 0 Status: OK PackageFile: bioDist_1.76.0.zip PackageFileSize: 167.1 KiB