Package: bioDist Version: 1.76.0 Command: /home/biocbuild/R/R-beta-2024-04-15_r86425/bin/R CMD build --keep-empty-dirs --no-resave-data bioDist StartedAt: 2024-05-08 22:47:16 -0000 (Wed, 08 May 2024) EndedAt: 2024-05-08 22:47:37 -0000 (Wed, 08 May 2024) EllapsedTime: 21.0 seconds RetCode: 0 Status: OK PackageFile: bioDist_1.76.0.tar.gz PackageFileSize: 197 KiB