Package: bioDist Version: 1.76.0 Command: /Library/Frameworks/R.framework/Resources/bin/R CMD build --keep-empty-dirs --no-resave-data bioDist StartedAt: 2024-10-16 20:27:19 -0400 (Wed, 16 Oct 2024) EndedAt: 2024-10-16 20:27:43 -0400 (Wed, 16 Oct 2024) EllapsedTime: 24.0 seconds RetCode: 0 Status: OK PackageFile: bioDist_1.76.0.tar.gz PackageFileSize: 204.5 KiB